BEGIN:VCALENDAR
VERSION:2.0
PRODID:-//The Country Club at Lake City - ECPv6.15.18//NONSGML v1.0//EN
CALSCALE:GREGORIAN
METHOD:PUBLISH
X-WR-CALNAME:The Country Club at Lake City
X-ORIGINAL-URL:https://www.thecountryclubatlakecity.com
X-WR-CALDESC:Events for The Country Club at Lake City
REFRESH-INTERVAL;VALUE=DURATION:PT1H
X-Robots-Tag:noindex
X-PUBLISHED-TTL:PT1H
BEGIN:VTIMEZONE
TZID:America/New_York
BEGIN:DAYLIGHT
TZOFFSETFROM:-0500
TZOFFSETTO:-0400
TZNAME:EDT
DTSTART:20230312T070000
END:DAYLIGHT
BEGIN:STANDARD
TZOFFSETFROM:-0400
TZOFFSETTO:-0500
TZNAME:EST
DTSTART:20231105T060000
END:STANDARD
BEGIN:DAYLIGHT
TZOFFSETFROM:-0500
TZOFFSETTO:-0400
TZNAME:EDT
DTSTART:20240310T070000
END:DAYLIGHT
BEGIN:STANDARD
TZOFFSETFROM:-0400
TZOFFSETTO:-0500
TZNAME:EST
DTSTART:20241103T060000
END:STANDARD
BEGIN:DAYLIGHT
TZOFFSETFROM:-0500
TZOFFSETTO:-0400
TZNAME:EDT
DTSTART:20250309T070000
END:DAYLIGHT
BEGIN:STANDARD
TZOFFSETFROM:-0400
TZOFFSETTO:-0500
TZNAME:EST
DTSTART:20251102T060000
END:STANDARD
BEGIN:DAYLIGHT
TZOFFSETFROM:-0500
TZOFFSETTO:-0400
TZNAME:EDT
DTSTART:20260308T070000
END:DAYLIGHT
BEGIN:STANDARD
TZOFFSETFROM:-0400
TZOFFSETTO:-0500
TZNAME:EST
DTSTART:20261101T060000
END:STANDARD
END:VTIMEZONE
BEGIN:VEVENT
DTSTART;TZID=America/New_York:20250209T080000
DTEND;TZID=America/New_York:20250209T120000
DTSTAMP:20260421T214829
CREATED:20250114T180539Z
LAST-MODIFIED:20250114T180605Z
UID:706-1739088000-1739102400@www.thecountryclubatlakecity.com
SUMMARY:MGA Superbowl Tournament
DESCRIPTION:
URL:https://www.thecountryclubatlakecity.com/event/mga-superbowl-tournament/
LOCATION:THE COUNTRY CLUB AT LAKE CITY
END:VEVENT
BEGIN:VEVENT
DTSTART;TZID=America/New_York:20241026T080000
DTEND;TZID=America/New_York:20241027T170000
DTSTAMP:20260421T214829
CREATED:20241008T132632Z
LAST-MODIFIED:20241008T132834Z
UID:696-1729929600-1730048400@www.thecountryclubatlakecity.com
SUMMARY:The Roundtree
DESCRIPTION:
URL:https://www.thecountryclubatlakecity.com/event/the-roundtree/
LOCATION:THE COUNTRY CLUB AT LAKE CITY
END:VEVENT
BEGIN:VEVENT
DTSTART;TZID=America/New_York:20240921T080000
DTEND;TZID=America/New_York:20240922T170000
DTSTAMP:20260421T214829
CREATED:20240723T204608Z
LAST-MODIFIED:20240819T145404Z
UID:648-1726905600-1727024400@www.thecountryclubatlakecity.com
SUMMARY:Club Championship
DESCRIPTION:Club Championship 2024
URL:https://www.thecountryclubatlakecity.com/event/club-championship/
LOCATION:THE COUNTRY CLUB AT LAKE CITY
END:VEVENT
BEGIN:VEVENT
DTSTART;TZID=America/New_York:20240802T190000
DTEND;TZID=America/New_York:20240802T220000
DTSTAMP:20260421T214829
CREATED:20240729T150727Z
LAST-MODIFIED:20240729T150727Z
UID:661-1722625200-1722636000@www.thecountryclubatlakecity.com
SUMMARY:Karaoke Night
DESCRIPTION:🎉 Get ready for an unforgettable evening! We are thrilled to have the amazing Mr. Tom Daniel as our special Karaoke host\, bringing you a night full of fun and fantastic music! 🎉 FREE ENTRY\n\n 🍤 Limited Shrimp Rose: Enjoy our pan-seared shrimp tossed in a spicy tomato cream sauce with onions\, jalapeños\, and bell peppers over handmade linguine pasta. 🍝 Special price: $20 (regularly $24) \n\n 🥒Limited Weekly Special Fried Zucchini and Squash: Ranch panko-crusted sticks with a roasted garlic dill aioli. Special price: $8 (regularly $9) \n\n 📅 Join us this Friday and every Friday night for dinner and an exciting Karaoke night! Make your reservations now by calling (386) 752-0721. Our address is 717 NW Fairway Drive\, Lake City\, FL 32055. ✨ Don’t miss out on the fun – see you there! ✨ 👍 Like\, share\, and tag your friends to spread the word! 
URL:https://www.thecountryclubatlakecity.com/event/karaoke-night/
LOCATION:THE COUNTRY CLUB AT LAKE CITY
END:VEVENT
END:VCALENDAR